BEGIN:VCALENDAR
VERSION:2.0
PRODID:Events Booking
BEGIN:VEVENT
UID:69e664713ac87
SUMMARY:Owl Prowl - the last in the season!
DESCRIPTION:Join us for a night-time Owl Prowl here at The Farm\,&nbsp\;led
  by owl expert Chris Sperring\, MBE.
LOCATION:Denny Ln\, Chew Magna\, Bristol BS40 8SZ\, UK
DTSTART:20260204T190000Z
DTEND:20260204T210000Z
DTSTAMP:20260420T173753Z
ORGANIZER;CN=The Community Farm:MAILTO:news@thecommunityfarm.co.uk
GEO:51.355278;-2.611062
X-APPLE-STRUCTURED-LOCATION;VALUE=URI;X-ADDRESS=Denny Ln\, Chew Magna\, Bri
 stol BS40 8SZ\, UK;X-APPLE-RADIUS=72;X-TITLE=The Community Farm:51.355278;
 -2.611062
END:VEVENT
END:VCALENDAR