BEGIN:VCALENDAR
VERSION:2.0
PRODID:Events Booking
BEGIN:VEVENT
UID:69eaab81be063
SUMMARY:Brush making workshop
DESCRIPTION:Join us for a&nbsp\;day&nbsp\;of traditional brush making\, exp
 loring different shapes and patterns over a three hour workshop\, learning
  a range of techniques and skills all about the humble brush!&nbsp\;
LOCATION:Denny Ln\, Chew Magna\, Bristol BS40 8SZ\, UK
DTSTART:20260515T090000Z
DTEND:20260515T120000Z
DTSTAMP:20260330T154133Z
ORGANIZER;CN=The Community Farm:MAILTO:news@thecommunityfarm.co.uk
GEO:51.355278;-2.611062
X-APPLE-STRUCTURED-LOCATION;VALUE=URI;X-ADDRESS=Denny Ln\, Chew Magna\, Bri
 stol BS40 8SZ\, UK;X-APPLE-RADIUS=72;X-TITLE=The Community Farm:51.355278;
 -2.611062
END:VEVENT
END:VCALENDAR