BEGIN:VCALENDAR
VERSION:2.0
PRODID:Events Booking
BEGIN:VEVENT
UID:69eaab7665fba
SUMMARY:Organic Words tour & writing day with Beth Calverley
DESCRIPTION:Join us here at The Community Farm for a playful day of nature 
 and wildlife-inspired\, purposeful writing with local poet Beth Calverley.
LOCATION:Denny Ln\, Chew Magna\, Bristol BS40 8SZ\, UK
DTSTART:20260628T100000Z
DTEND:20260628T150000Z
DTSTAMP:20260423T122648Z
ORGANIZER;CN=The Community Farm:MAILTO:news@thecommunityfarm.co.uk
GEO:51.355278;-2.611062
X-APPLE-STRUCTURED-LOCATION;VALUE=URI;X-ADDRESS=Denny Ln\, Chew Magna\, Bri
 stol BS40 8SZ\, UK;X-APPLE-RADIUS=72;X-TITLE=The Community Farm:51.355278;
 -2.611062
END:VEVENT
END:VCALENDAR